BEGIN:VCALENDAR
VERSION:2.0
PRODID:-//Łukasz Polek - Turystyka - ECPv6.14.2//NONSGML v1.0//EN
CALSCALE:GREGORIAN
METHOD:PUBLISH
X-WR-CALNAME:Łukasz Polek - Turystyka
X-ORIGINAL-URL:https://www.polek-turystyka.pl
X-WR-CALDESC:Wydarzenia dla Łukasz Polek - Turystyka
REFRESH-INTERVAL;VALUE=DURATION:PT1H
X-Robots-Tag:noindex
X-PUBLISHED-TTL:PT1H
BEGIN:VTIMEZONE
TZID:Europe/Warsaw
BEGIN:DAYLIGHT
TZOFFSETFROM:+0100
TZOFFSETTO:+0200
TZNAME:CEST
DTSTART:20260329T010000
END:DAYLIGHT
BEGIN:STANDARD
TZOFFSETFROM:+0200
TZOFFSETTO:+0100
TZNAME:CET
DTSTART:20261025T010000
END:STANDARD
END:VTIMEZONE
BEGIN:VEVENT
DTSTART;VALUE=DATE:20260419
DTEND;VALUE=DATE:20260420
DTSTAMP:20260419T201207
CREATED:20260312T080015Z
LAST-MODIFIED:20260312T081257Z
UID:4488-1776556800-1776643199@www.polek-turystyka.pl
SUMMARY:V etap Korony Beskidu Wyspowego 19.04.2026 r.
DESCRIPTION:Łukasz Polek -Polek-Turystyka zaprasza Państwa na wycieczkę do Słowackiego Raju  								\n				\n					\n		\n					\n		\n				\n						\n					\n			\n						\n				\n					Opis Wycieczki				\n				\n				\n				\n									Słowacki Raj czas przejścia: ok. 6 godz.długość: 9\,5 kmsuma podejść 709 m\,suma zejść 702 mNajwyższy punkt 1029 m n.p.m.Przebieg:  Wąwóz Wielki Sokół Trasa wymagająca dobrej kondycji i obycia z wysokością (drabinki\, klamry\, podesty) Wyjazd: z Tarnowaz Brzeska								\n				\n				\n				\n					Zapisz się nie czekaj!				\n				\n				\n				\n					\n		\n							\n											\n						Słowacki Raj						\n					\n											\n							wycieczka jednodniowa						\n									\n			\n			\n								170									\n						zł					\n				\n				\n				\n									w cenie wycieczki:							\n\n							\n											\n							\n																									\n										Przejazd autokarem									\n																\n						\n											\n							\n																									\n										Ubezpieczenie									\n																\n						\n											\n							\n																									\n										Opieka pilota									\n																\n						\n											\n							\n																									\n										Opieka przewodnika									\n																\n						\n											\n							\n																									\n										Wstęp do parku płatny dodatkowo 4 euro									\n																\n						\n									\n			\n					\n\n						\n				\n				\n				\n					Do wycieczki pozostało:				\n				\n				\n				\n							\n			 Dni Godziny Minuty Sekundy		\n						\n				\n				\n				\n									Dodatkowe informacje o wycieczce udziela Łukasz Polek – tel. 696 690 788 								\n				\n					\n		\n				\n			\n						\n				\n					Rejestracja na wycieczkę:				\n				\n				\n				\n					\n                \n\n  \n\n\n\n Imię i nazwisko osoby rezerwującej (zawierającej umowę):\n \n \n Twój adres e-mail:\n \n \n Twój numer telefonu:\n \n \n Adres (ulica\, numer\, miasto\, kod pocztowy):\n \n \n Ilość zapisywanych osób:\n \n \n Imiona\, nazwiska i daty urodzenia uczestników\, również osoby rezerwującej jeśli jedzie na wycieczkę:\n \n \n Termin i miejsce wyjazdu:\nTarnówBrzesko\n \n Dodatkowe informacje dla organizatora (opcjonalne):\n \n \nWrażam zgodę na przetwarzanie moich danych. Więcej informacji w klauzuli informacyjnej RODO.\n \nAkceptuję regulamin\n \nZobowiązuje się do zapłaty za wycieczkę do 7 dni od momentu rejestracji\, a w przypadku rezygnacji do 24 godz. przed wycieczką wskazania osoby za moje miejsce.\n \nOświadczam\, że ja oraz osoby\, które zgłaszam na wycieczkę\, posiadają dokumenty\, pozwalające na podróż. Wszystkie dzieci podróżują z jednym z rodziców/opiekunów prawnych lub posiadają zgody opiekunów prawnych.
URL:https://www.polek-turystyka.pl/wydarzenie/v-etap-korony-beskidu-wyspowego-19-04-2026-r/
CATEGORIES:Polska
ATTACH;FMTTYPE=image/jpeg:https://www.polek-turystyka.pl/wp-content/uploads/2026/03/V-etap-KBW_.jpg
END:VEVENT
END:VCALENDAR