BEGIN:VCALENDAR
VERSION:2.0
PRODID:-//Łukasz Polek - Turystyka - ECPv6.14.2//NONSGML v1.0//EN
CALSCALE:GREGORIAN
METHOD:PUBLISH
X-WR-CALNAME:Łukasz Polek - Turystyka
X-ORIGINAL-URL:https://www.polek-turystyka.pl
X-WR-CALDESC:Wydarzenia dla Łukasz Polek - Turystyka
REFRESH-INTERVAL;VALUE=DURATION:PT1H
X-Robots-Tag:noindex
X-PUBLISHED-TTL:PT1H
BEGIN:VTIMEZONE
TZID:Europe/Warsaw
BEGIN:DAYLIGHT
TZOFFSETFROM:+0100
TZOFFSETTO:+0200
TZNAME:CEST
DTSTART:20260329T010000
END:DAYLIGHT
BEGIN:STANDARD
TZOFFSETFROM:+0200
TZOFFSETTO:+0100
TZNAME:CET
DTSTART:20261025T010000
END:STANDARD
END:VTIMEZONE
BEGIN:VEVENT
DTSTART;VALUE=DATE:20260425
DTEND;VALUE=DATE:20260426
DTSTAMP:20260420T032855
CREATED:20260212T092721Z
LAST-MODIFIED:20260330T085441Z
UID:4363-1777075200-1777161599@www.polek-turystyka.pl
SUMMARY:Turbacz - 25.04.2026 r.
DESCRIPTION:Łukasz Polek -Polek-Turystyka zaprasza Państwa na wycieczkę do Słowackiego Raju  								\n				\n					\n		\n					\n		\n				\n						\n					\n			\n						\n				\n					Opis Wycieczki				\n				\n				\n				\n									Słowacki Raj czas przejścia: ok. 6 godz.długość: 9\,5 kmsuma podejść 709 m\,suma zejść 702 mNajwyższy punkt 1029 m n.p.m.Przebieg:  Wąwóz Wielki Sokół Trasa wymagająca dobrej kondycji i obycia z wysokością (drabinki\, klamry\, podesty) Wyjazd: z Tarnowaz Brzeska								\n				\n				\n				\n					Zapisz się nie czekaj!				\n				\n				\n				\n					\n		\n							\n											\n						Słowacki Raj						\n					\n											\n							wycieczka jednodniowa						\n									\n			\n			\n								170									\n						zł					\n				\n				\n				\n									w cenie wycieczki:							\n\n							\n											\n							\n																									\n										Przejazd autokarem									\n																\n						\n											\n							\n																									\n										Ubezpieczenie									\n																\n						\n											\n							\n																									\n										Opieka pilota									\n																\n						\n											\n							\n																									\n										Opieka przewodnika									\n																\n						\n											\n							\n																									\n										Wstęp do parku płatny dodatkowo 4 euro									\n																\n						\n									\n			\n					\n\n						\n				\n				\n				\n					Do wycieczki pozostało:				\n				\n				\n				\n							\n			 Dni Godziny Minuty Sekundy		\n						\n				\n				\n				\n									Dodatkowe informacje o wycieczce udziela Łukasz Polek – tel. 696 690 788 								\n				\n					\n		\n				\n			\n						\n				\n					Rejestracja na wycieczkę:				\n				\n				\n				\n					\n                \n\n  \n\n\n\n Imię i nazwisko osoby rezerwującej (zawierającej umowę):\n \n \n Twój adres e-mail:\n \n \n Twój numer telefonu:\n \n \n Adres (ulica\, numer\, miasto\, kod pocztowy):\n \n \n Ilość zapisywanych osób:\n \n \n Imiona\, nazwiska i daty urodzenia uczestników\, również osoby rezerwującej jeśli jedzie na wycieczkę:\n \n \n Termin i miejsce wyjazdu:\nTarnówBrzesko\n \n Dodatkowe informacje dla organizatora (opcjonalne):\n \n \nWrażam zgodę na przetwarzanie moich danych. Więcej informacji w klauzuli informacyjnej RODO.\n \nAkceptuję regulamin\n \nZobowiązuje się do zapłaty za wycieczkę do 7 dni od momentu rejestracji\, a w przypadku rezygnacji do 24 godz. przed wycieczką wskazania osoby za moje miejsce.\n \nOświadczam\, że ja oraz osoby\, które zgłaszam na wycieczkę\, posiadają dokumenty\, pozwalające na podróż. Wszystkie dzieci podróżują z jednym z rodziców/opiekunów prawnych lub posiadają zgody opiekunów prawnych.
URL:https://www.polek-turystyka.pl/wydarzenie/turbacz-25-04-2026-r/
CATEGORIES:Polska
ATTACH;FMTTYPE=image/jpeg:https://www.polek-turystyka.pl/wp-content/uploads/2026/02/Turbacz.jpg
END:VEVENT
BEGIN:VEVENT
DTSTART;VALUE=DATE:20260501
DTEND;VALUE=DATE:20260502
DTSTAMP:20260420T032855
CREATED:20260311T100116Z
LAST-MODIFIED:20260311T100408Z
UID:4467-1777593600-1777679999@www.polek-turystyka.pl
SUMMARY:Wycieczka Góry Choczańskie 01.05.2026 r.
DESCRIPTION:Łukasz Polek -Polek-Turystyka zaprasza Państwa na wycieczkę do Słowackiego Raju  								\n				\n					\n		\n					\n		\n				\n						\n					\n			\n						\n				\n					Opis Wycieczki				\n				\n				\n				\n									Słowacki Raj czas przejścia: ok. 6 godz.długość: 9\,5 kmsuma podejść 709 m\,suma zejść 702 mNajwyższy punkt 1029 m n.p.m.Przebieg:  Wąwóz Wielki Sokół Trasa wymagająca dobrej kondycji i obycia z wysokością (drabinki\, klamry\, podesty) Wyjazd: z Tarnowaz Brzeska								\n				\n				\n				\n					Zapisz się nie czekaj!				\n				\n				\n				\n					\n		\n							\n											\n						Słowacki Raj						\n					\n											\n							wycieczka jednodniowa						\n									\n			\n			\n								170									\n						zł					\n				\n				\n				\n									w cenie wycieczki:							\n\n							\n											\n							\n																									\n										Przejazd autokarem									\n																\n						\n											\n							\n																									\n										Ubezpieczenie									\n																\n						\n											\n							\n																									\n										Opieka pilota									\n																\n						\n											\n							\n																									\n										Opieka przewodnika									\n																\n						\n											\n							\n																									\n										Wstęp do parku płatny dodatkowo 4 euro									\n																\n						\n									\n			\n					\n\n						\n				\n				\n				\n					Do wycieczki pozostało:				\n				\n				\n				\n							\n			 Dni Godziny Minuty Sekundy		\n						\n				\n				\n				\n									Dodatkowe informacje o wycieczce udziela Łukasz Polek – tel. 696 690 788 								\n				\n					\n		\n				\n			\n						\n				\n					Rejestracja na wycieczkę:				\n				\n				\n				\n					\n                \n\n  \n\n\n\n Imię i nazwisko osoby rezerwującej (zawierającej umowę):\n \n \n Twój adres e-mail:\n \n \n Twój numer telefonu:\n \n \n Adres (ulica\, numer\, miasto\, kod pocztowy):\n \n \n Ilość zapisywanych osób:\n \n \n Imiona\, nazwiska i daty urodzenia uczestników\, również osoby rezerwującej jeśli jedzie na wycieczkę:\n \n \n Termin i miejsce wyjazdu:\nTarnówBrzesko\n \n Dodatkowe informacje dla organizatora (opcjonalne):\n \n \nWrażam zgodę na przetwarzanie moich danych. Więcej informacji w klauzuli informacyjnej RODO.\n \nAkceptuję regulamin\n \nZobowiązuje się do zapłaty za wycieczkę do 7 dni od momentu rejestracji\, a w przypadku rezygnacji do 24 godz. przed wycieczką wskazania osoby za moje miejsce.\n \nOświadczam\, że ja oraz osoby\, które zgłaszam na wycieczkę\, posiadają dokumenty\, pozwalające na podróż. Wszystkie dzieci podróżują z jednym z rodziców/opiekunów prawnych lub posiadają zgody opiekunów prawnych.
URL:https://www.polek-turystyka.pl/wydarzenie/wycieczka-gory-choczanskie-01-05-2026-r/
CATEGORIES:Polska
ATTACH;FMTTYPE=image/jpeg:https://www.polek-turystyka.pl/wp-content/uploads/2026/03/Gory-choczanskie.jpg
END:VEVENT
BEGIN:VEVENT
DTSTART;VALUE=DATE:20260503
DTEND;VALUE=DATE:20260504
DTSTAMP:20260420T032855
CREATED:20260312T073829Z
LAST-MODIFIED:20260312T074902Z
UID:4477-1777766400-1777852799@www.polek-turystyka.pl
SUMMARY:Wycieczka - Wielka Fatra 03.05.2026 r.
DESCRIPTION:Łukasz Polek -Polek-Turystyka zaprasza Państwa na wycieczkę do Słowackiego Raju  								\n				\n					\n		\n					\n		\n				\n						\n					\n			\n						\n				\n					Opis Wycieczki				\n				\n				\n				\n									Słowacki Raj czas przejścia: ok. 6 godz.długość: 9\,5 kmsuma podejść 709 m\,suma zejść 702 mNajwyższy punkt 1029 m n.p.m.Przebieg:  Wąwóz Wielki Sokół Trasa wymagająca dobrej kondycji i obycia z wysokością (drabinki\, klamry\, podesty) Wyjazd: z Tarnowaz Brzeska								\n				\n				\n				\n					Zapisz się nie czekaj!				\n				\n				\n				\n					\n		\n							\n											\n						Słowacki Raj						\n					\n											\n							wycieczka jednodniowa						\n									\n			\n			\n								170									\n						zł					\n				\n				\n				\n									w cenie wycieczki:							\n\n							\n											\n							\n																									\n										Przejazd autokarem									\n																\n						\n											\n							\n																									\n										Ubezpieczenie									\n																\n						\n											\n							\n																									\n										Opieka pilota									\n																\n						\n											\n							\n																									\n										Opieka przewodnika									\n																\n						\n											\n							\n																									\n										Wstęp do parku płatny dodatkowo 4 euro									\n																\n						\n									\n			\n					\n\n						\n				\n				\n				\n					Do wycieczki pozostało:				\n				\n				\n				\n							\n			 Dni Godziny Minuty Sekundy		\n						\n				\n				\n				\n									Dodatkowe informacje o wycieczce udziela Łukasz Polek – tel. 696 690 788 								\n				\n					\n		\n				\n			\n						\n				\n					Rejestracja na wycieczkę:				\n				\n				\n				\n					\n                \n\n  \n\n\n\n Imię i nazwisko osoby rezerwującej (zawierającej umowę):\n \n \n Twój adres e-mail:\n \n \n Twój numer telefonu:\n \n \n Adres (ulica\, numer\, miasto\, kod pocztowy):\n \n \n Ilość zapisywanych osób:\n \n \n Imiona\, nazwiska i daty urodzenia uczestników\, również osoby rezerwującej jeśli jedzie na wycieczkę:\n \n \n Termin i miejsce wyjazdu:\nTarnówBrzesko\n \n Dodatkowe informacje dla organizatora (opcjonalne):\n \n \nWrażam zgodę na przetwarzanie moich danych. Więcej informacji w klauzuli informacyjnej RODO.\n \nAkceptuję regulamin\n \nZobowiązuje się do zapłaty za wycieczkę do 7 dni od momentu rejestracji\, a w przypadku rezygnacji do 24 godz. przed wycieczką wskazania osoby za moje miejsce.\n \nOświadczam\, że ja oraz osoby\, które zgłaszam na wycieczkę\, posiadają dokumenty\, pozwalające na podróż. Wszystkie dzieci podróżują z jednym z rodziców/opiekunów prawnych lub posiadają zgody opiekunów prawnych.
URL:https://www.polek-turystyka.pl/wydarzenie/wycieczka-wielka-fatra-03-05-2026-r/
CATEGORIES:Polska
ATTACH;FMTTYPE=image/jpeg:https://www.polek-turystyka.pl/wp-content/uploads/2026/03/Wielka-fatra.jpg
END:VEVENT
BEGIN:VEVENT
DTSTART;VALUE=DATE:20260510
DTEND;VALUE=DATE:20260511
DTSTAMP:20260420T032855
CREATED:20260409T141618Z
LAST-MODIFIED:20260409T142618Z
UID:4583-1778371200-1778457599@www.polek-turystyka.pl
SUMMARY:VI etap Korony Beskidu Wyspowego Mogielica 10.05.2026 r.
DESCRIPTION:Łukasz Polek -Polek-Turystyka zaprasza Państwa na wycieczkę do Słowackiego Raju  								\n				\n					\n		\n					\n		\n				\n						\n					\n			\n						\n				\n					Opis Wycieczki				\n				\n				\n				\n									Słowacki Raj czas przejścia: ok. 6 godz.długość: 9\,5 kmsuma podejść 709 m\,suma zejść 702 mNajwyższy punkt 1029 m n.p.m.Przebieg:  Wąwóz Wielki Sokół Trasa wymagająca dobrej kondycji i obycia z wysokością (drabinki\, klamry\, podesty) Wyjazd: z Tarnowaz Brzeska								\n				\n				\n				\n					Zapisz się nie czekaj!				\n				\n				\n				\n					\n		\n							\n											\n						Słowacki Raj						\n					\n											\n							wycieczka jednodniowa						\n									\n			\n			\n								170									\n						zł					\n				\n				\n				\n									w cenie wycieczki:							\n\n							\n											\n							\n																									\n										Przejazd autokarem									\n																\n						\n											\n							\n																									\n										Ubezpieczenie									\n																\n						\n											\n							\n																									\n										Opieka pilota									\n																\n						\n											\n							\n																									\n										Opieka przewodnika									\n																\n						\n											\n							\n																									\n										Wstęp do parku płatny dodatkowo 4 euro									\n																\n						\n									\n			\n					\n\n						\n				\n				\n				\n					Do wycieczki pozostało:				\n				\n				\n				\n							\n			 Dni Godziny Minuty Sekundy		\n						\n				\n				\n				\n									Dodatkowe informacje o wycieczce udziela Łukasz Polek – tel. 696 690 788 								\n				\n					\n		\n				\n			\n						\n				\n					Rejestracja na wycieczkę:				\n				\n				\n				\n					\n                \n\n  \n\n\n\n Imię i nazwisko osoby rezerwującej (zawierającej umowę):\n \n \n Twój adres e-mail:\n \n \n Twój numer telefonu:\n \n \n Adres (ulica\, numer\, miasto\, kod pocztowy):\n \n \n Ilość zapisywanych osób:\n \n \n Imiona\, nazwiska i daty urodzenia uczestników\, również osoby rezerwującej jeśli jedzie na wycieczkę:\n \n \n Termin i miejsce wyjazdu:\nTarnówBrzesko\n \n Dodatkowe informacje dla organizatora (opcjonalne):\n \n \nWrażam zgodę na przetwarzanie moich danych. Więcej informacji w klauzuli informacyjnej RODO.\n \nAkceptuję regulamin\n \nZobowiązuje się do zapłaty za wycieczkę do 7 dni od momentu rejestracji\, a w przypadku rezygnacji do 24 godz. przed wycieczką wskazania osoby za moje miejsce.\n \nOświadczam\, że ja oraz osoby\, które zgłaszam na wycieczkę\, posiadają dokumenty\, pozwalające na podróż. Wszystkie dzieci podróżują z jednym z rodziców/opiekunów prawnych lub posiadają zgody opiekunów prawnych.
URL:https://www.polek-turystyka.pl/wydarzenie/vi-etap-korony-beskidu-wyspowego-mogielica-10-05-2026-r/
CATEGORIES:Polska
ATTACH;FMTTYPE=image/jpeg:https://www.polek-turystyka.pl/wp-content/uploads/2026/04/KBW-10.05.2026.jpg
END:VEVENT
BEGIN:VEVENT
DTSTART;VALUE=DATE:20260516
DTEND;VALUE=DATE:20260517
DTSTAMP:20260420T032855
CREATED:20260330T081022Z
LAST-MODIFIED:20260330T081752Z
UID:4556-1778889600-1778975999@www.polek-turystyka.pl
SUMMARY:Czerwone Wierchy - 16.05.2026 r.
DESCRIPTION:Łukasz Polek -Polek-Turystyka zaprasza Państwa na wycieczkę do Słowackiego Raju  								\n				\n					\n		\n					\n		\n				\n						\n					\n			\n						\n				\n					Opis Wycieczki				\n				\n				\n				\n									Słowacki Raj czas przejścia: ok. 6 godz.długość: 9\,5 kmsuma podejść 709 m\,suma zejść 702 mNajwyższy punkt 1029 m n.p.m.Przebieg:  Wąwóz Wielki Sokół Trasa wymagająca dobrej kondycji i obycia z wysokością (drabinki\, klamry\, podesty) Wyjazd: z Tarnowaz Brzeska								\n				\n				\n				\n					Zapisz się nie czekaj!				\n				\n				\n				\n					\n		\n							\n											\n						Słowacki Raj						\n					\n											\n							wycieczka jednodniowa						\n									\n			\n			\n								170									\n						zł					\n				\n				\n				\n									w cenie wycieczki:							\n\n							\n											\n							\n																									\n										Przejazd autokarem									\n																\n						\n											\n							\n																									\n										Ubezpieczenie									\n																\n						\n											\n							\n																									\n										Opieka pilota									\n																\n						\n											\n							\n																									\n										Opieka przewodnika									\n																\n						\n											\n							\n																									\n										Wstęp do parku płatny dodatkowo 4 euro									\n																\n						\n									\n			\n					\n\n						\n				\n				\n				\n					Do wycieczki pozostało:				\n				\n				\n				\n							\n			 Dni Godziny Minuty Sekundy		\n						\n				\n				\n				\n									Dodatkowe informacje o wycieczce udziela Łukasz Polek – tel. 696 690 788 								\n				\n					\n		\n				\n			\n						\n				\n					Rejestracja na wycieczkę:				\n				\n				\n				\n					\n                \n\n  \n\n\n\n Imię i nazwisko osoby rezerwującej (zawierającej umowę):\n \n \n Twój adres e-mail:\n \n \n Twój numer telefonu:\n \n \n Adres (ulica\, numer\, miasto\, kod pocztowy):\n \n \n Ilość zapisywanych osób:\n \n \n Imiona\, nazwiska i daty urodzenia uczestników\, również osoby rezerwującej jeśli jedzie na wycieczkę:\n \n \n Termin i miejsce wyjazdu:\nTarnówBrzesko\n \n Dodatkowe informacje dla organizatora (opcjonalne):\n \n \nWrażam zgodę na przetwarzanie moich danych. Więcej informacji w klauzuli informacyjnej RODO.\n \nAkceptuję regulamin\n \nZobowiązuje się do zapłaty za wycieczkę do 7 dni od momentu rejestracji\, a w przypadku rezygnacji do 24 godz. przed wycieczką wskazania osoby za moje miejsce.\n \nOświadczam\, że ja oraz osoby\, które zgłaszam na wycieczkę\, posiadają dokumenty\, pozwalające na podróż. Wszystkie dzieci podróżują z jednym z rodziców/opiekunów prawnych lub posiadają zgody opiekunów prawnych.
URL:https://www.polek-turystyka.pl/wydarzenie/czerwone-wierchy-16-05-2026-r/
CATEGORIES:Polska
ATTACH;FMTTYPE=image/jpeg:https://www.polek-turystyka.pl/wp-content/uploads/2026/03/Czerwone-wierchy-1.jpg
END:VEVENT
BEGIN:VEVENT
DTSTART;VALUE=DATE:20260607
DTEND;VALUE=DATE:20260608
DTSTAMP:20260420T032855
CREATED:20260410T121454Z
LAST-MODIFIED:20260413T092054Z
UID:4597-1780790400-1780876799@www.polek-turystyka.pl
SUMMARY:Słowacki Raj 07.06.2026 r.
DESCRIPTION:Łukasz Polek -Polek-Turystyka zaprasza Państwa na wycieczkę do Słowackiego Raju  								\n				\n					\n		\n					\n		\n				\n						\n					\n			\n						\n				\n					Opis Wycieczki				\n				\n				\n				\n									Słowacki Raj czas przejścia: ok. 6 godz.długość: 9\,5 kmsuma podejść 709 m\,suma zejść 702 mNajwyższy punkt 1029 m n.p.m.Przebieg:  Wąwóz Wielki Sokół Trasa wymagająca dobrej kondycji i obycia z wysokością (drabinki\, klamry\, podesty) Wyjazd: z Tarnowaz Brzeska								\n				\n				\n				\n					Zapisz się nie czekaj!				\n				\n				\n				\n					\n		\n							\n											\n						Słowacki Raj						\n					\n											\n							wycieczka jednodniowa						\n									\n			\n			\n								170									\n						zł					\n				\n				\n				\n									w cenie wycieczki:							\n\n							\n											\n							\n																									\n										Przejazd autokarem									\n																\n						\n											\n							\n																									\n										Ubezpieczenie									\n																\n						\n											\n							\n																									\n										Opieka pilota									\n																\n						\n											\n							\n																									\n										Opieka przewodnika									\n																\n						\n											\n							\n																									\n										Wstęp do parku płatny dodatkowo 4 euro									\n																\n						\n									\n			\n					\n\n						\n				\n				\n				\n					Do wycieczki pozostało:				\n				\n				\n				\n							\n			 Dni Godziny Minuty Sekundy		\n						\n				\n				\n				\n									Dodatkowe informacje o wycieczce udziela Łukasz Polek – tel. 696 690 788 								\n				\n					\n		\n				\n			\n						\n				\n					Rejestracja na wycieczkę:				\n				\n				\n				\n					\n                \n\n  \n\n\n\n Imię i nazwisko osoby rezerwującej (zawierającej umowę):\n \n \n Twój adres e-mail:\n \n \n Twój numer telefonu:\n \n \n Adres (ulica\, numer\, miasto\, kod pocztowy):\n \n \n Ilość zapisywanych osób:\n \n \n Imiona\, nazwiska i daty urodzenia uczestników\, również osoby rezerwującej jeśli jedzie na wycieczkę:\n \n \n Termin i miejsce wyjazdu:\nTarnówBrzesko\n \n Dodatkowe informacje dla organizatora (opcjonalne):\n \n \nWrażam zgodę na przetwarzanie moich danych. Więcej informacji w klauzuli informacyjnej RODO.\n \nAkceptuję regulamin\n \nZobowiązuje się do zapłaty za wycieczkę do 7 dni od momentu rejestracji\, a w przypadku rezygnacji do 24 godz. przed wycieczką wskazania osoby za moje miejsce.\n \nOświadczam\, że ja oraz osoby\, które zgłaszam na wycieczkę\, posiadają dokumenty\, pozwalające na podróż. Wszystkie dzieci podróżują z jednym z rodziców/opiekunów prawnych lub posiadają zgody opiekunów prawnych.
URL:https://www.polek-turystyka.pl/wydarzenie/slowacki-raj-07-06-2026-r/
CATEGORIES:Polska
ATTACH;FMTTYPE=image/jpeg:https://www.polek-turystyka.pl/wp-content/uploads/2026/04/PjT5QPkg.jpg
END:VEVENT
BEGIN:VEVENT
DTSTART;VALUE=DATE:20260614
DTEND;VALUE=DATE:20260615
DTSTAMP:20260420T032855
CREATED:20260409T140700Z
LAST-MODIFIED:20260409T140836Z
UID:4576-1781395200-1781481599@www.polek-turystyka.pl
SUMMARY:Dolina Pięciu Stawów- Tatry Polskie - 14.06.2026r.
DESCRIPTION:Łukasz Polek -Polek-Turystyka zaprasza Państwa na wycieczkę do Słowackiego Raju  								\n				\n					\n		\n					\n		\n				\n						\n					\n			\n						\n				\n					Opis Wycieczki				\n				\n				\n				\n									Słowacki Raj czas przejścia: ok. 6 godz.długość: 9\,5 kmsuma podejść 709 m\,suma zejść 702 mNajwyższy punkt 1029 m n.p.m.Przebieg:  Wąwóz Wielki Sokół Trasa wymagająca dobrej kondycji i obycia z wysokością (drabinki\, klamry\, podesty) Wyjazd: z Tarnowaz Brzeska								\n				\n				\n				\n					Zapisz się nie czekaj!				\n				\n				\n				\n					\n		\n							\n											\n						Słowacki Raj						\n					\n											\n							wycieczka jednodniowa						\n									\n			\n			\n								170									\n						zł					\n				\n				\n				\n									w cenie wycieczki:							\n\n							\n											\n							\n																									\n										Przejazd autokarem									\n																\n						\n											\n							\n																									\n										Ubezpieczenie									\n																\n						\n											\n							\n																									\n										Opieka pilota									\n																\n						\n											\n							\n																									\n										Opieka przewodnika									\n																\n						\n											\n							\n																									\n										Wstęp do parku płatny dodatkowo 4 euro									\n																\n						\n									\n			\n					\n\n						\n				\n				\n				\n					Do wycieczki pozostało:				\n				\n				\n				\n							\n			 Dni Godziny Minuty Sekundy		\n						\n				\n				\n				\n									Dodatkowe informacje o wycieczce udziela Łukasz Polek – tel. 696 690 788 								\n				\n					\n		\n				\n			\n						\n				\n					Rejestracja na wycieczkę:				\n				\n				\n				\n					\n                \n\n  \n\n\n\n Imię i nazwisko osoby rezerwującej (zawierającej umowę):\n \n \n Twój adres e-mail:\n \n \n Twój numer telefonu:\n \n \n Adres (ulica\, numer\, miasto\, kod pocztowy):\n \n \n Ilość zapisywanych osób:\n \n \n Imiona\, nazwiska i daty urodzenia uczestników\, również osoby rezerwującej jeśli jedzie na wycieczkę:\n \n \n Termin i miejsce wyjazdu:\nTarnówBrzesko\n \n Dodatkowe informacje dla organizatora (opcjonalne):\n \n \nWrażam zgodę na przetwarzanie moich danych. Więcej informacji w klauzuli informacyjnej RODO.\n \nAkceptuję regulamin\n \nZobowiązuje się do zapłaty za wycieczkę do 7 dni od momentu rejestracji\, a w przypadku rezygnacji do 24 godz. przed wycieczką wskazania osoby za moje miejsce.\n \nOświadczam\, że ja oraz osoby\, które zgłaszam na wycieczkę\, posiadają dokumenty\, pozwalające na podróż. Wszystkie dzieci podróżują z jednym z rodziców/opiekunów prawnych lub posiadają zgody opiekunów prawnych.
URL:https://www.polek-turystyka.pl/wydarzenie/dolina-pieciu-stawow-tatry-polskie-14-06-2026r/
CATEGORIES:Polska
ATTACH;FMTTYPE=image/jpeg:https://www.polek-turystyka.pl/wp-content/uploads/2026/04/Dolina-5-stawow.jpg
END:VEVENT
END:VCALENDAR